BEGIN:VCALENDAR
VERSION:2.0
PRODID:spatie/icalendar-generator
DESCRIPTION:Events from Upper Lehigh Democratic Club
X-WR-CALDESC:Events from Upper Lehigh Democratic Club
REFRESH-INTERVAL;VALUE=DURATION:PT1440M
X-PUBLISHED-TTL:PT1440M
BEGIN:VTIMEZONE
TZID:America/New_York
BEGIN:STANDARD
DTSTART:20241103T020000Z
TZOFFSETFROM:-0400
TZOFFSETTO:-0500
END:STANDARD
BEGIN:DAYLIGHT
DTSTART:20250309T020000Z
TZOFFSETFROM:-0500
TZOFFSETTO:-0400
END:DAYLIGHT
END:VTIMEZONE
BEGIN:VTIMEZONE
TZID:UTC
BEGIN:STANDARD
DTSTART:20250728T212154Z
TZOFFSETFROM:+0000
TZOFFSETTO:+0000
END:STANDARD
END:VTIMEZONE
BEGIN:VEVENT
UID:332-318
DTSTAMP:20260424T212154Z
SUMMARY:ULDC Meeting
LOCATION:
ORGANIZER;CN=JSadmin:MAILTO:joanstronga2@gmail.com
DTSTART;TZID=America/New_York:20250211T190000
DTEND;TZID=America/New_York:20250211T203000
X-ALT-DESC;FMTTYPE=TEXT/HTML:ULDC General Meeting Location: Zoom only Meet
 ing Program: Election Strategies for 2025 Chris Pirrotta and David Ellowit
 ch The meeting will be held exclusively on Zoom. Email will be sent to mem
 bers prior to the meeting with zoom link. BECOME A MEMBER — SIGN UP FOR 
 OUR EMAILS *How to Join a Zoom Meeting REMINDER: Time to&amp;hellip\;
CATEGORIES:ULDC Event
URL;VALUE=URI:https://upperlehigh.com/mc-events/uldc-meeting-6/
METHOD:PUBLISH
END:VEVENT
END:VCALENDAR