BEGIN:VCALENDAR
VERSION:2.0
PRODID:spatie/icalendar-generator
DESCRIPTION:Events from Upper Lehigh Democratic Club
X-WR-CALDESC:Events from Upper Lehigh Democratic Club
REFRESH-INTERVAL;VALUE=DURATION:PT1440M
X-PUBLISHED-TTL:PT1440M
BEGIN:VTIMEZONE
TZID:America/New_York
BEGIN:STANDARD
DTSTART:20241103T020000Z
TZOFFSETFROM:-0400
TZOFFSETTO:-0500
END:STANDARD
BEGIN:DAYLIGHT
DTSTART:20250309T020000Z
TZOFFSETFROM:-0500
TZOFFSETTO:-0400
END:DAYLIGHT
END:VTIMEZONE
BEGIN:VTIMEZONE
TZID:UTC
BEGIN:STANDARD
DTSTART:20250729T003854Z
TZOFFSETFROM:+0000
TZOFFSETTO:+0000
END:STANDARD
END:VTIMEZONE
BEGIN:VEVENT
UID:351-332
DTSTAMP:20260425T003854Z
SUMMARY:LCDC Petition Training
LOCATION:LCDC Office 5920 Hamilton Blvd.\, Allentown\, PA 18106  Suite 102 
 Allentown PA 18106
ORGANIZER;CN=JSadmin:MAILTO:joanstronga2@gmail.com
DTSTART;TZID=America/New_York:20250218T170000
DTEND;TZID=America/New_York:20250218T183000
X-ALT-DESC;FMTTYPE=TEXT/HTML:Petition Training at 5 PM This training sessio
 n will provide instruction on meeting the requirements for obtaining signa
 tures on candidate petitions. Mobilize Link Please join us and help our ca
 ndidates get on the ballot by attending our petition signing party. Come o
 ut and meet the candidates and fellow volunteers to learn how you can get&amp;
 hellip\;
CATEGORIES:LCDC Event
URL;VALUE=URI:https://upperlehigh.com/mc-events/lcdc-petition-training/
METHOD:PUBLISH
END:VEVENT
END:VCALENDAR