BEGIN:VCALENDAR
VERSION:2.0
PRODID:spatie/icalendar-generator
DESCRIPTION:Events from Upper Lehigh Democratic Club
X-WR-CALDESC:Events from Upper Lehigh Democratic Club
REFRESH-INTERVAL;VALUE=DURATION:PT1440M
X-PUBLISHED-TTL:PT1440M
BEGIN:VTIMEZONE
TZID:America/New_York
BEGIN:STANDARD
DTSTART:20241103T020000Z
TZOFFSETFROM:-0400
TZOFFSETTO:-0500
END:STANDARD
BEGIN:DAYLIGHT
DTSTART:20250309T020000Z
TZOFFSETFROM:-0500
TZOFFSETTO:-0400
END:DAYLIGHT
END:VTIMEZONE
BEGIN:VTIMEZONE
TZID:UTC
BEGIN:STANDARD
DTSTART:20250729T003945Z
TZOFFSETFROM:+0000
TZOFFSETTO:+0000
END:STANDARD
END:VTIMEZONE
BEGIN:VEVENT
UID:354-335
DTSTAMP:20260425T003945Z
SUMMARY:Parkland Resource Fair
LOCATION:
ORGANIZER;CN=JSadmin:MAILTO:joanstronga2@gmail.com
DTSTART;TZID=America/New_York:20250315T090000
DTEND;TZID=America/New_York:20250315T120000
X-ALT-DESC;FMTTYPE=TEXT/HTML:PARKLAND RESOURCE FAIR – March 15\, 2025 Loc
 ation: Parkland High School STOP BY THE ULDC TABLE! We will be providing g
 eneral information about the club to Parkland residents. Event Details on 
 Parkland Website Click on Image to Enlarge
CATEGORIES:General
URL;VALUE=URI:https://upperlehigh.com/mc-events/parkland-resource-fair/
METHOD:PUBLISH
END:VEVENT
END:VCALENDAR