BEGIN:VCALENDAR
VERSION:2.0
PRODID:spatie/icalendar-generator
DESCRIPTION:Events from Upper Lehigh Democratic Club
X-WR-CALDESC:Events from Upper Lehigh Democratic Club
REFRESH-INTERVAL;VALUE=DURATION:PT1440M
X-PUBLISHED-TTL:PT1440M
BEGIN:VTIMEZONE
TZID:America/New_York
BEGIN:STANDARD
DTSTART:20241103T020000Z
TZOFFSETFROM:-0400
TZOFFSETTO:-0500
END:STANDARD
BEGIN:DAYLIGHT
DTSTART:20250309T020000Z
TZOFFSETFROM:-0500
TZOFFSETTO:-0400
END:DAYLIGHT
END:VTIMEZONE
BEGIN:VTIMEZONE
TZID:UTC
BEGIN:STANDARD
DTSTART:20250729T142520Z
TZOFFSETFROM:+0000
TZOFFSETTO:+0000
END:STANDARD
END:VTIMEZONE
BEGIN:VEVENT
UID:371-346
DTSTAMP:20260425T142520Z
SUMMARY:Mondays with MacKenzie
LOCATION:MacKenzie District Office 1125 South Cedar Crest Blvd.  Allentown 
 PA 18103
ORGANIZER;CN=JSadmin:MAILTO:joanstronga2@gmail.com
RRULE:FREQ=WEEKLY;UNTIL=20250602T000000Z
DTSTART;TZID=America/New_York:20250414T120000
DTEND;TZID=America/New_York:20250414T130000
X-ALT-DESC;FMTTYPE=TEXT/HTML:Rep. Ryan MacKenzie's District Office 1125 Sou
 th Cedar Crest Blvd. Allentown PA 18103 EVERY MONDAY Stand up for our comm
 unity and  say NO to billionaires! PLEASE DO NOT PARK IN THE 1125 BUILDIN
 G PARKING LOT Sponsored by Lehigh County Democratic Committee Indivisible 
 Lehigh Valley Bethlehem PA Working Families SEIU Red\, Wine and Blue LV Ro
 ar
CATEGORIES:LCDC Event
URL;VALUE=URI:https://upperlehigh.com/mc-events/mondays-with-mackenzie/?mc_
 id=371
METHOD:PUBLISH
END:VEVENT
END:VCALENDAR