BEGIN:VCALENDAR
VERSION:2.0
PRODID:spatie/icalendar-generator
DESCRIPTION:Events from Upper Lehigh Democratic Club
X-WR-CALDESC:Events from Upper Lehigh Democratic Club
REFRESH-INTERVAL;VALUE=DURATION:PT1440M
X-PUBLISHED-TTL:PT1440M
BEGIN:VTIMEZONE
TZID:America/New_York
BEGIN:STANDARD
DTSTART:20241103T020000Z
TZOFFSETFROM:-0400
TZOFFSETTO:-0500
END:STANDARD
BEGIN:DAYLIGHT
DTSTART:20250309T020000Z
TZOFFSETFROM:-0500
TZOFFSETTO:-0400
END:DAYLIGHT
END:VTIMEZONE
BEGIN:VTIMEZONE
TZID:UTC
BEGIN:STANDARD
DTSTART:20250729T155859Z
TZOFFSETFROM:+0000
TZOFFSETTO:+0000
END:STANDARD
END:VTIMEZONE
BEGIN:VEVENT
UID:395-360
DTSTAMP:20260425T155859Z
SUMMARY:ULDC Meeting
LOCATION:
ORGANIZER;CN=JSadmin:MAILTO:joanstronga2@gmail.com
DTSTART;TZID=America/New_York:20250408T190000
DTEND;TZID=America/New_York:20250408T203000
X-ALT-DESC;FMTTYPE=TEXT/HTML:ULDC General Meeting VIA ZOOM Meeting Program:
  Introducing our Candidates &amp;amp\; Lehigh County Commissioner Geoff Brace 
 On the Impact of Medicaid Cuts at the County Level Email will be sent to m
 embers prior to the meeting with zoom link. BECOME A MEMBER — SIGN UP FO
 R OUR EMAILS *How to Join a Zoom Meeting Future&amp;hellip\;
CATEGORIES:ULDC Event
URL;VALUE=URI:https://upperlehigh.com/mc-events/uldc-meeting-12/
METHOD:PUBLISH
END:VEVENT
END:VCALENDAR