BEGIN:VCALENDAR
VERSION:2.0
PRODID:spatie/icalendar-generator
DESCRIPTION:Events from Upper Lehigh Democratic Club
X-WR-CALDESC:Events from Upper Lehigh Democratic Club
REFRESH-INTERVAL;VALUE=DURATION:PT1440M
X-PUBLISHED-TTL:PT1440M
BEGIN:VTIMEZONE
TZID:America/New_York
BEGIN:STANDARD
DTSTART:20241103T020000Z
TZOFFSETFROM:-0400
TZOFFSETTO:-0500
END:STANDARD
BEGIN:DAYLIGHT
DTSTART:20250309T020000Z
TZOFFSETFROM:-0500
TZOFFSETTO:-0400
END:DAYLIGHT
END:VTIMEZONE
BEGIN:VTIMEZONE
TZID:UTC
BEGIN:STANDARD
DTSTART:20250729T124730Z
TZOFFSETFROM:+0000
TZOFFSETTO:+0000
END:STANDARD
END:VTIMEZONE
BEGIN:VEVENT
UID:402-367
DTSTAMP:20260425T124730Z
SUMMARY:We The People Rally
LOCATION:
ORGANIZER;CN=JSadmin:MAILTO:joanstronga2@gmail.com
DTSTART;TZID=America/New_York:20250419T120000
DTEND;TZID=America/New_York:20250419T130000
X-ALT-DESC;FMTTYPE=TEXT/HTML:WE THE PEOPLE RALLY Saturday\, April 19\, Noon
  – 1PM 1125 S Cedar Crest Blvd\, Allentown Join us and be part of this n
 ation-wide action and let your voice help shape the future. Please do not 
 park in the 1125 S. Cedar Crest parking lot. Car pool if possible and park
  in the neighborhood. CLICK&amp;hellip\;
CATEGORIES:LCDC Event
URL;VALUE=URI:https://upperlehigh.com/mc-events/we-the-people-rally/
METHOD:PUBLISH
END:VEVENT
END:VCALENDAR