BEGIN:VCALENDAR
VERSION:2.0
PRODID:spatie/icalendar-generator
DESCRIPTION:Events from Upper Lehigh Democratic Club
X-WR-CALDESC:Events from Upper Lehigh Democratic Club
REFRESH-INTERVAL;VALUE=DURATION:PT1440M
X-PUBLISHED-TTL:PT1440M
BEGIN:VTIMEZONE
TZID:America/New_York
BEGIN:STANDARD
DTSTART:20241103T020000Z
TZOFFSETFROM:-0400
TZOFFSETTO:-0500
END:STANDARD
BEGIN:DAYLIGHT
DTSTART:20250309T020000Z
TZOFFSETFROM:-0500
TZOFFSETTO:-0400
END:DAYLIGHT
BEGIN:STANDARD
DTSTART:20251102T020000Z
TZOFFSETFROM:-0400
TZOFFSETTO:-0500
END:STANDARD
END:VTIMEZONE
BEGIN:VTIMEZONE
TZID:UTC
BEGIN:STANDARD
DTSTART:20250728T230051Z
TZOFFSETFROM:+0000
TZOFFSETTO:+0000
END:STANDARD
END:VTIMEZONE
BEGIN:VEVENT
UID:409-373
DTSTAMP:20260424T230051Z
SUMMARY:LCDC General Meeting
LOCATION:LCDC Office 5920 Hamilton Blvd.\, Allentown\, PA 18106  Suite 102 
 Allentown PA 18106
ORGANIZER;CN=JSadmin:MAILTO:joanstronga2@gmail.com
DTSTART;TZID=America/New_York:20250618T183000
DTEND;TZID=America/New_York:20250618T200000
X-ALT-DESC;FMTTYPE=TEXT/HTML:Meeting Rescheduled from original June 3 date.
  All Precinct Committee Persons should attend this quarterly meeting. LCDC
  Office\, 5920 Hamilton Blvd\, Suite 102\, Allentown\, PA 18106
CATEGORIES:LCDC Event
URL;VALUE=URI:https://upperlehigh.com/mc-events/lcdc-general-meeting-3/
METHOD:PUBLISH
END:VEVENT
END:VCALENDAR