BEGIN:VCALENDAR
VERSION:2.0
PRODID:spatie/icalendar-generator
DESCRIPTION:Events from Upper Lehigh Democratic Club
X-WR-CALDESC:Events from Upper Lehigh Democratic Club
REFRESH-INTERVAL;VALUE=DURATION:PT1440M
X-PUBLISHED-TTL:PT1440M
BEGIN:VTIMEZONE
TZID:America/New_York
BEGIN:STANDARD
DTSTART:20241103T020000Z
TZOFFSETFROM:-0400
TZOFFSETTO:-0500
END:STANDARD
BEGIN:DAYLIGHT
DTSTART:20250309T020000Z
TZOFFSETFROM:-0500
TZOFFSETTO:-0400
END:DAYLIGHT
BEGIN:STANDARD
DTSTART:20251102T020000Z
TZOFFSETFROM:-0400
TZOFFSETTO:-0500
END:STANDARD
END:VTIMEZONE
BEGIN:VTIMEZONE
TZID:UTC
BEGIN:STANDARD
DTSTART:20250728T163123Z
TZOFFSETFROM:+0000
TZOFFSETTO:+0000
END:STANDARD
END:VTIMEZONE
BEGIN:VEVENT
UID:438-377
DTSTAMP:20260424T163123Z
SUMMARY:Mondays with MacKenzie
LOCATION:MacKenzie District Office 1125 South Cedar Crest Blvd.  Allentown 
 PA 18103
ORGANIZER;CN=JSadmin:MAILTO:joanstronga2@gmail.com
RRULE:FREQ=WEEKLY;UNTIL=20251006T000000Z
DTSTART;TZID=America/New_York:20250721T120000
DTEND;TZID=America/New_York:20250721T130000
X-ALT-DESC;FMTTYPE=TEXT/HTML:PLEASE DO NOT PARK IN THE BUILDING PARKING LOT
  Park on neighboring streets. Do not block mail boxes. &amp;nbsp\;
CATEGORIES:LCDC Event
URL;VALUE=URI:https://upperlehigh.com/mc-events/mondays-with-mackenzie-2/?m
 c_id=438
METHOD:PUBLISH
END:VEVENT
END:VCALENDAR