BEGIN:VCALENDAR
VERSION:2.0
PRODID:spatie/icalendar-generator
DESCRIPTION:Events from Upper Lehigh Democratic Club
X-WR-CALDESC:Events from Upper Lehigh Democratic Club
REFRESH-INTERVAL;VALUE=DURATION:PT1440M
X-PUBLISHED-TTL:PT1440M
BEGIN:VTIMEZONE
TZID:America/New_York
BEGIN:DAYLIGHT
DTSTART:20260308T020000Z
TZOFFSETFROM:-0500
TZOFFSETTO:-0400
END:DAYLIGHT
BEGIN:STANDARD
DTSTART:20261101T020000Z
TZOFFSETFROM:-0400
TZOFFSETTO:-0500
END:STANDARD
BEGIN:DAYLIGHT
DTSTART:20270314T020000Z
TZOFFSETFROM:-0500
TZOFFSETTO:-0400
END:DAYLIGHT
END:VTIMEZONE
BEGIN:VTIMEZONE
TZID:UTC
BEGIN:STANDARD
DTSTART:20250728T224801Z
TZOFFSETFROM:+0000
TZOFFSETTO:+0000
END:STANDARD
END:VTIMEZONE
BEGIN:VEVENT
UID:460-390
DTSTAMP:20260424T224801Z
SUMMARY:Last Day Register to Vote in General Election
LOCATION:
ORGANIZER;CN=JSadmin:MAILTO:joanstronga2@gmail.com
DTSTART;TZID=America/New_York:20261019T080000
DTEND;TZID=America/New_York:20261019T160000
X-ALT-DESC;FMTTYPE=TEXT/HTML:https://www.pa.gov/agencies/vote/voter-registr
 ation.html Lehigh County Voter Registration Office Hours 8 am - 4 pm Lehig
 h County Government Center 17 South Seventh Street Allentown\, Pennsylvan
 ia 18101-2400 United States 610-782-3194
CATEGORIES:Voting &amp; Elections
URL;VALUE=URI:https://upperlehigh.com/mc-events/last-day-register-to-vote-i
 n-general-election-2/
METHOD:PUBLISH
END:VEVENT
END:VCALENDAR