BEGIN:VCALENDAR
VERSION:2.0
PRODID:spatie/icalendar-generator
DESCRIPTION:Events from Upper Lehigh Democratic Club
X-WR-CALDESC:Events from Upper Lehigh Democratic Club
REFRESH-INTERVAL;VALUE=DURATION:PT1440M
X-PUBLISHED-TTL:PT1440M
BEGIN:VTIMEZONE
TZID:America/New_York
BEGIN:DAYLIGHT
DTSTART:20260308T020000Z
TZOFFSETFROM:-0500
TZOFFSETTO:-0400
END:DAYLIGHT
BEGIN:STANDARD
DTSTART:20261101T020000Z
TZOFFSETFROM:-0400
TZOFFSETTO:-0500
END:STANDARD
BEGIN:DAYLIGHT
DTSTART:20270314T020000Z
TZOFFSETFROM:-0500
TZOFFSETTO:-0400
END:DAYLIGHT
END:VTIMEZONE
BEGIN:VTIMEZONE
TZID:UTC
BEGIN:STANDARD
DTSTART:20250729T004011Z
TZOFFSETFROM:+0000
TZOFFSETTO:+0000
END:STANDARD
END:VTIMEZONE
BEGIN:VEVENT
UID:468-397
DTSTAMP:20260425T004011Z
SUMMARY:Last Day Apply to Vote by Mail
LOCATION:
ORGANIZER;CN=JSadmin:MAILTO:joanstronga2@gmail.com
DTSTART;TZID=America/New_York:20261027T080000
DTEND;TZID=America/New_York:20261027T170000
X-ALT-DESC;FMTTYPE=TEXT/HTML:Lehigh County Voter Registration Office Lehigh
  County Government Center 17 South Seventh Street Allentown\, Pennsylvani
 a 18101-2400 Office hours may be extended CALL TO VERIFY EXTENDED HOURS 6
 10-782-3194
CATEGORIES:Voting &amp; Elections
URL;VALUE=URI:https://upperlehigh.com/mc-events/last-day-apply-to-vote-by-m
 ail-4/
METHOD:PUBLISH
END:VEVENT
END:VCALENDAR