BEGIN:VCALENDAR
VERSION:2.0
PRODID:spatie/icalendar-generator
DESCRIPTION:Events from Upper Lehigh Democratic Club
X-WR-CALDESC:Events from Upper Lehigh Democratic Club
REFRESH-INTERVAL;VALUE=DURATION:PT1440M
X-PUBLISHED-TTL:PT1440M
BEGIN:VTIMEZONE
TZID:America/New_York
BEGIN:STANDARD
DTSTART:20251102T020000Z
TZOFFSETFROM:-0400
TZOFFSETTO:-0500
END:STANDARD
BEGIN:DAYLIGHT
DTSTART:20260308T020000Z
TZOFFSETFROM:-0500
TZOFFSETTO:-0400
END:DAYLIGHT
BEGIN:STANDARD
DTSTART:20261101T020000Z
TZOFFSETFROM:-0400
TZOFFSETTO:-0500
END:STANDARD
END:VTIMEZONE
BEGIN:VTIMEZONE
TZID:UTC
BEGIN:STANDARD
DTSTART:20250728T224919Z
TZOFFSETFROM:+0000
TZOFFSETTO:+0000
END:STANDARD
END:VTIMEZONE
BEGIN:VEVENT
UID:473-401
DTSTAMP:20260424T224919Z
SUMMARY:ULDC Picnic
LOCATION:
ORGANIZER;CN=JSadmin:MAILTO:joanstronga2@gmail.com
DTSTART;TZID=America/New_York:20260628T120000
DTEND;TZID=America/New_York:20260628T150000
X-ALT-DESC;FMTTYPE=TEXT/HTML:Noon - 3 pm Lone Lane Park\, Schantz Road and 
 Lone Lane\, Upper Macungie Food at Noon\, Speakers at 1 A great opportunit
 y to socialize with members\, office holders and candidates. Please help t
 o make this gathering a success! Volunteers are Needed Food – Set Up –
  Clean Up
CATEGORIES:ULDC Event
URL;VALUE=URI:https://upperlehigh.com/mc-events/uldc-picnic-3/
METHOD:PUBLISH
END:VEVENT
END:VCALENDAR