BEGIN:VCALENDAR
VERSION:2.0
PRODID:spatie/icalendar-generator
DESCRIPTION:Events from Upper Lehigh Democratic Club
X-WR-CALDESC:Events from Upper Lehigh Democratic Club
REFRESH-INTERVAL;VALUE=DURATION:PT1440M
X-PUBLISHED-TTL:PT1440M
BEGIN:VTIMEZONE
TZID:America/New_York
BEGIN:STANDARD
DTSTART:20251102T020000Z
TZOFFSETFROM:-0400
TZOFFSETTO:-0500
END:STANDARD
BEGIN:DAYLIGHT
DTSTART:20260308T020000Z
TZOFFSETFROM:-0500
TZOFFSETTO:-0400
END:DAYLIGHT
BEGIN:STANDARD
DTSTART:20261101T020000Z
TZOFFSETFROM:-0400
TZOFFSETTO:-0500
END:STANDARD
END:VTIMEZONE
BEGIN:VTIMEZONE
TZID:UTC
BEGIN:STANDARD
DTSTART:20250728T212635Z
TZOFFSETFROM:+0000
TZOFFSETTO:+0000
END:STANDARD
END:VTIMEZONE
BEGIN:VEVENT
UID:517-431
DTSTAMP:20260424T212635Z
SUMMARY:ULDC &amp;amp\; SLDC Iron Pigs Game
LOCATION:Coca-Cola Park 1050 Ironpigs Way  Allentown PA 18109
ORGANIZER;CN=JSadmin:MAILTO:joanstronga2@gmail.com
DTSTART;TZID=America/New_York:20260729T184500
DTEND;TZID=America/New_York:20260729T194500
X-ALT-DESC;FMTTYPE=TEXT/HTML:Upper Lehigh Democratic Club &amp;amp\; Southern L
 ehigh Democratic Club Outing at Coca-Cola Park* Ticket includes 2.5 Hour A
 ll-You-Can-Eat Buffet Check your email for details and link to purchase ti
 cket. *You must be a member to participate in the event
CATEGORIES:ULDC Event
URL;VALUE=URI:https://upperlehigh.com/mc-events/uldc-sldc-iron-pigs-game/
METHOD:PUBLISH
END:VEVENT
END:VCALENDAR