BEGIN:VCALENDAR
VERSION:2.0
PRODID:spatie/icalendar-generator
DESCRIPTION:Events from Upper Lehigh Democratic Club
X-WR-CALDESC:Events from Upper Lehigh Democratic Club
REFRESH-INTERVAL;VALUE=DURATION:PT1440M
X-PUBLISHED-TTL:PT1440M
BEGIN:VTIMEZONE
TZID:America/New_York
BEGIN:STANDARD
DTSTART:20251102T020000Z
TZOFFSETFROM:-0400
TZOFFSETTO:-0500
END:STANDARD
BEGIN:DAYLIGHT
DTSTART:20260308T020000Z
TZOFFSETFROM:-0500
TZOFFSETTO:-0400
END:DAYLIGHT
END:VTIMEZONE
BEGIN:VTIMEZONE
TZID:UTC
BEGIN:STANDARD
DTSTART:20250728T194147Z
TZOFFSETFROM:+0000
TZOFFSETTO:+0000
END:STANDARD
END:VTIMEZONE
BEGIN:VEVENT
UID:525-434
DTSTAMP:20260424T194147Z
SUMMARY:Friends and Family Yard Sale
LOCATION:
ORGANIZER;CN=JSadmin:MAILTO:joanstronga2@gmail.com
DTSTART;TZID=America/New_York:20260424T080000
DTEND;TZID=America/New_York:20260424T160000
X-ALT-DESC;FMTTYPE=TEXT/HTML:Dianne's Friends &amp;amp\; Family Yard Sale (Proc
 eeds to Benefit ULDC) Friday\, April 24 &amp;amp\; Saturday April 25 8 am – 
 4 pm 5168 Stahley Dr\, Schnecksville VOLUNTEERS ARE NEEDED Help with organ
 izing items before sale and especially on sale days. Drop off items starti
 ng April 11\, must be received before April 20 Click for Details\,&amp;hellip\
 ;
CATEGORIES:General
URL;VALUE=URI:https://upperlehigh.com/mc-events/friends-and-family-yard-sal
 e/
METHOD:PUBLISH
END:VEVENT
END:VCALENDAR