BEGIN:VCALENDAR
VERSION:2.0
PRODID:spatie/icalendar-generator
DESCRIPTION:Events from Upper Lehigh Democratic Club
X-WR-CALDESC:Events from Upper Lehigh Democratic Club
REFRESH-INTERVAL;VALUE=DURATION:PT1440M
X-PUBLISHED-TTL:PT1440M
BEGIN:VTIMEZONE
TZID:America/New_York
BEGIN:STANDARD
DTSTART:20251102T020000Z
TZOFFSETFROM:-0400
TZOFFSETTO:-0500
END:STANDARD
BEGIN:DAYLIGHT
DTSTART:20260308T020000Z
TZOFFSETFROM:-0500
TZOFFSETTO:-0400
END:DAYLIGHT
END:VTIMEZONE
BEGIN:VTIMEZONE
TZID:UTC
BEGIN:STANDARD
DTSTART:20250728T162527Z
TZOFFSETFROM:+0000
TZOFFSETTO:+0000
END:STANDARD
END:VTIMEZONE
BEGIN:VEVENT
UID:532-439
DTSTAMP:20260424T162527Z
SUMMARY:PA Senate 16 Dem Candidate Debate
LOCATION:Univest Public Media Center 839 Sesame Street  Bethlehem PA 18015
ORGANIZER;CN=JSadmin:MAILTO:joanstronga2@gmail.com
DTSTART;TZID=America/New_York:20260428T174500
DTEND;TZID=America/New_York:20260428T190000
X-ALT-DESC;FMTTYPE=TEXT/HTML:PBS39\, WLVR\, and LehighValleyNews.com Primar
 y Election Debate Tickets: PA 16 Tickets\, Tuesday\, April 28  •  6 PM
  - 7 PM | Eventbrite* Univest Public Media Center\, 839 Sesame Street\, Be
 thlehem\, PA 18015 Join Lehigh Valley Public Media in the audience for a d
 ebate between the Democratic candidates for Pennsylvania's 16th Senate Dis
 trict\, Mark Pinsley and&amp;hellip\;
CATEGORIES:Candidate Event
URL;VALUE=URI:https://upperlehigh.com/mc-events/pa-senate-16-dem-candidate-
 debate/
METHOD:PUBLISH
END:VEVENT
END:VCALENDAR