BEGIN:VCALENDAR
VERSION:2.0
PRODID:spatie/icalendar-generator
DESCRIPTION:Events from Upper Lehigh Democratic Club
X-WR-CALDESC:Events from Upper Lehigh Democratic Club
REFRESH-INTERVAL;VALUE=DURATION:PT1440M
X-PUBLISHED-TTL:PT1440M
BEGIN:VTIMEZONE
TZID:America/New_York
BEGIN:DAYLIGHT
DTSTART:20240310T020000Z
TZOFFSETFROM:-0500
TZOFFSETTO:-0400
END:DAYLIGHT
BEGIN:STANDARD
DTSTART:20241103T020000Z
TZOFFSETFROM:-0400
TZOFFSETTO:-0500
END:STANDARD
BEGIN:DAYLIGHT
DTSTART:20250309T020000Z
TZOFFSETFROM:-0500
TZOFFSETTO:-0400
END:DAYLIGHT
END:VTIMEZONE
BEGIN:VTIMEZONE
TZID:UTC
BEGIN:STANDARD
DTSTART:20250729T142009Z
TZOFFSETFROM:+0000
TZOFFSETTO:+0000
END:STANDARD
END:VTIMEZONE
BEGIN:VEVENT
UID:154-145
DTSTAMP:20260425T142009Z
SUMMARY:ULDC Meeting
LOCATION:
ORGANIZER;CN=JSadmin:MAILTO:joanstronga2@gmail.com
DTSTART;TZID=America/New_York:20241008T190000
DTEND;TZID=America/New_York:20241008T203000
X-ALT-DESC;FMTTYPE=TEXT/HTML:ULDC General Meeting Location: In Person at Ce
 dar Crest College\, Zoom participation available. Speakers: Congresswoman 
 Susan Wild IN-PERSON and Congressman Jared Huffman (D-CA) Rep Huffman is a
  founder of House Democrats’ “Stop Project 2025 Task Force.” They wi
 ll share their thoughts on the election and the impact of Project 2025 and
  take questions from attendees.&amp;hellip\;
CATEGORIES:ULDC Event
URL;VALUE=URI:https://upperlehigh.com/mc-events/uldc-meeting-3/
METHOD:PUBLISH
END:VEVENT
END:VCALENDAR