BEGIN:VCALENDAR
VERSION:2.0
PRODID:spatie/icalendar-generator
DESCRIPTION:Events from Upper Lehigh Democratic Club
X-WR-CALDESC:Events from Upper Lehigh Democratic Club
REFRESH-INTERVAL;VALUE=DURATION:PT1440M
X-PUBLISHED-TTL:PT1440M
BEGIN:VTIMEZONE
TZID:America/New_York
BEGIN:DAYLIGHT
DTSTART:20240310T020000Z
TZOFFSETFROM:-0500
TZOFFSETTO:-0400
END:DAYLIGHT
BEGIN:STANDARD
DTSTART:20241103T020000Z
TZOFFSETFROM:-0400
TZOFFSETTO:-0500
END:STANDARD
BEGIN:DAYLIGHT
DTSTART:20250309T020000Z
TZOFFSETFROM:-0500
TZOFFSETTO:-0400
END:DAYLIGHT
END:VTIMEZONE
BEGIN:VTIMEZONE
TZID:UTC
BEGIN:STANDARD
DTSTART:20250729T020856Z
TZOFFSETFROM:+0000
TZOFFSETTO:+0000
END:STANDARD
END:VTIMEZONE
BEGIN:VEVENT
UID:326-15
DTSTAMP:20260425T020856Z
SUMMARY:Last Day DEADLINE EXTENDED: Vote Early In Person
LOCATION:Lehigh County Voter Registration Office Lehigh County Government C
 enter 17 South Seventh Street Allentown Pennsylvania 18101-2400
ORGANIZER;CN=JSadmin:MAILTO:joanstronga2@gmail.com
DTSTART;TZID=America/New_York:20241030T080000
DTEND;TZID=America/New_York:20241030T170000
X-ALT-DESC;FMTTYPE=TEXT/HTML:Due to road closures in Downtown Allentown on 
 Tuesday\, October 29\, 2024\, resulting in an inability for some voters to
  access the Lehigh County Government Center\, the Lehigh County Court of C
 ommon Pleas has granted the Lehigh County Election Board request to extend
  the deadline for Over-the-Counter Mail Balloting to 5 PM on Wednesday\, O
 ctober&amp;hellip\;
CATEGORIES:Voting &amp; Elections,  General
URL;VALUE=URI:https://upperlehigh.com/mc-events/last-day-deadline-extended-
 vote-early-in-person/
METHOD:PUBLISH
END:VEVENT
END:VCALENDAR