BEGIN:VCALENDAR
VERSION:2.0
PRODID:spatie/icalendar-generator
DESCRIPTION:Events from Upper Lehigh Democratic Club
X-WR-CALDESC:Events from Upper Lehigh Democratic Club
REFRESH-INTERVAL;VALUE=DURATION:PT1440M
X-PUBLISHED-TTL:PT1440M
BEGIN:VTIMEZONE
TZID:America/New_York
BEGIN:STANDARD
DTSTART:20241103T020000Z
TZOFFSETFROM:-0400
TZOFFSETTO:-0500
END:STANDARD
BEGIN:DAYLIGHT
DTSTART:20250309T020000Z
TZOFFSETFROM:-0500
TZOFFSETTO:-0400
END:DAYLIGHT
END:VTIMEZONE
BEGIN:VTIMEZONE
TZID:UTC
BEGIN:STANDARD
DTSTART:20250729T110846Z
TZOFFSETFROM:+0000
TZOFFSETTO:+0000
END:STANDARD
END:VTIMEZONE
BEGIN:VEVENT
UID:331-317
DTSTAMP:20260425T110846Z
SUMMARY:ULDC Meeting
LOCATION:
ORGANIZER;CN=JSadmin:MAILTO:joanstronga2@gmail.com
DTSTART;TZID=America/New_York:20250114T190000
DTEND;TZID=America/New_York:20250114T203000
X-ALT-DESC;FMTTYPE=TEXT/HTML:ULDC General Meeting Location: Zoom Only Meeti
 ng will focus on Local Offices on the Ballot in 2025 The meeting will be h
 eld exclusively on Zoom. Email will be sent to members prior to the meetin
 g with zoom link. TIME TO RENEW YOUR YEARLY MEMBERSHIP BECOME A MEMBER —
  SIGN UP FOR OUR EMAILS *How to&amp;hellip\;
CATEGORIES:ULDC Event
URL;VALUE=URI:https://upperlehigh.com/mc-events/uldc-meeting-5/
METHOD:PUBLISH
END:VEVENT
END:VCALENDAR