BEGIN:VCALENDAR
VERSION:2.0
PRODID:spatie/icalendar-generator
DESCRIPTION:Events from Upper Lehigh Democratic Club
X-WR-CALDESC:Events from Upper Lehigh Democratic Club
REFRESH-INTERVAL;VALUE=DURATION:PT1440M
X-PUBLISHED-TTL:PT1440M
BEGIN:VTIMEZONE
TZID:America/New_York
BEGIN:STANDARD
DTSTART:20241103T020000Z
TZOFFSETFROM:-0400
TZOFFSETTO:-0500
END:STANDARD
BEGIN:DAYLIGHT
DTSTART:20250309T020000Z
TZOFFSETFROM:-0500
TZOFFSETTO:-0400
END:DAYLIGHT
END:VTIMEZONE
BEGIN:VTIMEZONE
TZID:UTC
BEGIN:STANDARD
DTSTART:20250729T003638Z
TZOFFSETFROM:+0000
TZOFFSETTO:+0000
END:STANDARD
END:VTIMEZONE
BEGIN:VEVENT
UID:336-322
DTSTAMP:20260425T003638Z
SUMMARY:First Day Circulate Nomination Petitions
LOCATION:
ORGANIZER;CN=JSadmin:MAILTO:joanstronga2@gmail.com
DTSTART;TZID=America/New_York;VALUE=DATE:20250218
DTEND;TZID=America/New_York;VALUE=DATE:20250219
X-ALT-DESC;FMTTYPE=TEXT/HTML:Lehigh County Voter Registration Office: List 
 of offices and number of signatures required and any fee requirement Petit
 ion Instructions (Verify that page has been updated to 2025 election info
 rmation.) Additional information will be added.
CATEGORIES:Voting &amp; Elections
URL;VALUE=URI:https://upperlehigh.com/mc-events/first-day-circulate-nominat
 ion-petitions/
METHOD:PUBLISH
END:VEVENT
END:VCALENDAR