BEGIN:VCALENDAR
VERSION:2.0
PRODID:spatie/icalendar-generator
DESCRIPTION:Events from Upper Lehigh Democratic Club
X-WR-CALDESC:Events from Upper Lehigh Democratic Club
REFRESH-INTERVAL;VALUE=DURATION:PT1440M
X-PUBLISHED-TTL:PT1440M
BEGIN:VTIMEZONE
TZID:America/New_York
BEGIN:STANDARD
DTSTART:20241103T020000Z
TZOFFSETFROM:-0400
TZOFFSETTO:-0500
END:STANDARD
BEGIN:DAYLIGHT
DTSTART:20250309T020000Z
TZOFFSETFROM:-0500
TZOFFSETTO:-0400
END:DAYLIGHT
END:VTIMEZONE
BEGIN:VTIMEZONE
TZID:UTC
BEGIN:STANDARD
DTSTART:20250729T003627Z
TZOFFSETFROM:+0000
TZOFFSETTO:+0000
END:STANDARD
END:VTIMEZONE
BEGIN:VEVENT
UID:353-334
DTSTAMP:20260425T003627Z
SUMMARY:ULDC Panel Discussion: Running For Office
LOCATION:
ORGANIZER;CN=JSadmin:MAILTO:joanstronga2@gmail.com
DTSTART;TZID=America/New_York:20250127T183000
DTEND;TZID=America/New_York:20250127T200000
X-ALT-DESC;FMTTYPE=TEXT/HTML:ULDC Panel Discussion Running For Office Monda
 y January 27\, 6:30 PM on Zoom! Bob Elbich\, former Lehigh County Commiss
 ioner Sunny Ghai\, Upper Macungie Township Supervisor Chris Pirrotta\, M
 ember\, Parkland School Board Three Democrats who have experience in winni
 ng municipal and school board elections will discuss their experiences and
  answer questions about why folks should run for the important&amp;hellip\;
CATEGORIES:ULDC Event
URL;VALUE=URI:https://upperlehigh.com/mc-events/uldc-panel-discussion-runni
 ng-for-office/
METHOD:PUBLISH
END:VEVENT
END:VCALENDAR