BEGIN:VCALENDAR
VERSION:2.0
PRODID:spatie/icalendar-generator
DESCRIPTION:Events from Upper Lehigh Democratic Club
X-WR-CALDESC:Events from Upper Lehigh Democratic Club
REFRESH-INTERVAL;VALUE=DURATION:PT1440M
X-PUBLISHED-TTL:PT1440M
BEGIN:VTIMEZONE
TZID:America/New_York
BEGIN:STANDARD
DTSTART:20241103T020000Z
TZOFFSETFROM:-0400
TZOFFSETTO:-0500
END:STANDARD
BEGIN:DAYLIGHT
DTSTART:20250309T020000Z
TZOFFSETFROM:-0500
TZOFFSETTO:-0400
END:DAYLIGHT
END:VTIMEZONE
BEGIN:VTIMEZONE
TZID:UTC
BEGIN:STANDARD
DTSTART:20250730T014516Z
TZOFFSETFROM:+0000
TZOFFSETTO:+0000
END:STANDARD
END:VTIMEZONE
BEGIN:VEVENT
UID:396-361
DTSTAMP:20260426T014516Z
SUMMARY:ULDC Plant Sale On Line
LOCATION:
ORGANIZER;CN=JSadmin:MAILTO:joanstronga2@gmail.com
DTSTART;TZID=America/New_York;VALUE=DATE:20250324
DTEND;TZID=America/New_York;VALUE=DATE:20250427
X-ALT-DESC;FMTTYPE=TEXT/HTML:Shop for Plants &amp;amp\; Help Preserve Our Democ
 racy! SHOP Monday\, March 24 — Thursday\, April 26 ☙ ☙ ☙ PICK UP P
 LANTS Saturday\, May 3\, 10 AM — 2 PM 5535 Kurt Drive\, Allentown 18104 
 SEE DETAILED POST GO TO PLANT SALE STORE FRONT &amp;nbsp\;
CATEGORIES:ULDC Event
URL;VALUE=URI:https://upperlehigh.com/mc-events/uldc-plant-sale-on-line/
METHOD:PUBLISH
END:VEVENT
END:VCALENDAR