BEGIN:VCALENDAR
VERSION:2.0
PRODID:spatie/icalendar-generator
DESCRIPTION:Events from Upper Lehigh Democratic Club
X-WR-CALDESC:Events from Upper Lehigh Democratic Club
REFRESH-INTERVAL;VALUE=DURATION:PT1440M
X-PUBLISHED-TTL:PT1440M
BEGIN:VTIMEZONE
TZID:America/New_York
BEGIN:STANDARD
DTSTART:20241103T020000Z
TZOFFSETFROM:-0400
TZOFFSETTO:-0500
END:STANDARD
BEGIN:DAYLIGHT
DTSTART:20250309T020000Z
TZOFFSETFROM:-0500
TZOFFSETTO:-0400
END:DAYLIGHT
END:VTIMEZONE
BEGIN:VTIMEZONE
TZID:UTC
BEGIN:STANDARD
DTSTART:20250729T223325Z
TZOFFSETFROM:+0000
TZOFFSETTO:+0000
END:STANDARD
END:VTIMEZONE
BEGIN:VEVENT
UID:398-363
DTSTAMP:20260425T223325Z
SUMMARY:Hands Off! Democracy Events
LOCATION:
ORGANIZER;CN=JSadmin:MAILTO:joanstronga2@gmail.com
DTSTART;TZID=America/New_York;VALUE=DATE:20250405
DTEND;TZID=America/New_York;VALUE=DATE:20250406
X-ALT-DESC;FMTTYPE=TEXT/HTML:There are many events planned for April 5 in t
 he Lehigh Valley\, Philadelphia\, Harrisburg and Washington\, D.C. LCDC ha
 s advertised a bus from the Lehigh Valley to Washington\, D.C. HANDS OFF! 
 is organized by Indivisible This mass mobilization day\, conducted by many
  organizations all around the country\, is our message to the government a
 nd the&amp;hellip\;
CATEGORIES:General
URL;VALUE=URI:https://upperlehigh.com/mc-events/hands-off-democracy-events/
METHOD:PUBLISH
END:VEVENT
END:VCALENDAR