BEGIN:VCALENDAR
VERSION:2.0
PRODID:spatie/icalendar-generator
DESCRIPTION:Events from Upper Lehigh Democratic Club
X-WR-CALDESC:Events from Upper Lehigh Democratic Club
REFRESH-INTERVAL;VALUE=DURATION:PT1440M
X-PUBLISHED-TTL:PT1440M
BEGIN:VTIMEZONE
TZID:America/New_York
BEGIN:STANDARD
DTSTART:20241103T020000Z
TZOFFSETFROM:-0400
TZOFFSETTO:-0500
END:STANDARD
BEGIN:DAYLIGHT
DTSTART:20250309T020000Z
TZOFFSETFROM:-0500
TZOFFSETTO:-0400
END:DAYLIGHT
BEGIN:STANDARD
DTSTART:20251102T020000Z
TZOFFSETFROM:-0400
TZOFFSETTO:-0500
END:STANDARD
END:VTIMEZONE
BEGIN:VTIMEZONE
TZID:UTC
BEGIN:STANDARD
DTSTART:20250729T110846Z
TZOFFSETFROM:+0000
TZOFFSETTO:+0000
END:STANDARD
END:VTIMEZONE
BEGIN:VEVENT
UID:407-372
DTSTAMP:20260425T110846Z
SUMMARY:LCDC Executive Board Meeting
LOCATION:
ORGANIZER;CN=JSadmin:MAILTO:joanstronga2@gmail.com
DTSTART;TZID=America/New_York:20250506T183000
DTEND;TZID=America/New_York:20250506T203000
X-ALT-DESC;FMTTYPE=TEXT/HTML:LCDC Executive Committee Meeting May 6th 6:30 
 PM 5920 Hamilton Blvd\, Suite 102\, Allentown
CATEGORIES:LCDC Event
URL;VALUE=URI:https://upperlehigh.com/mc-events/lcdc-executive-board-meetin
 g/
METHOD:PUBLISH
END:VEVENT
END:VCALENDAR