BEGIN:VCALENDAR
VERSION:2.0
PRODID:spatie/icalendar-generator
DESCRIPTION:Events from Upper Lehigh Democratic Club
X-WR-CALDESC:Events from Upper Lehigh Democratic Club
REFRESH-INTERVAL;VALUE=DURATION:PT1440M
X-PUBLISHED-TTL:PT1440M
BEGIN:VTIMEZONE
TZID:America/New_York
BEGIN:STANDARD
DTSTART:20241103T020000Z
TZOFFSETFROM:-0400
TZOFFSETTO:-0500
END:STANDARD
BEGIN:DAYLIGHT
DTSTART:20250309T020000Z
TZOFFSETFROM:-0500
TZOFFSETTO:-0400
END:DAYLIGHT
BEGIN:STANDARD
DTSTART:20251102T020000Z
TZOFFSETFROM:-0400
TZOFFSETTO:-0500
END:STANDARD
END:VTIMEZONE
BEGIN:VTIMEZONE
TZID:UTC
BEGIN:STANDARD
DTSTART:20250728T225504Z
TZOFFSETFROM:+0000
TZOFFSETTO:+0000
END:STANDARD
END:VTIMEZONE
BEGIN:VEVENT
UID:419-378
DTSTAMP:20260424T225504Z
SUMMARY:MacKenzie Rally
LOCATION:MacKenzie District Office 1125 South Cedar Crest Blvd.  Allentown 
 PA 18103
ORGANIZER;CN=JSadmin:MAILTO:joanstronga2@gmail.com
DTSTART;TZID=America/New_York:20250707T170000
DTEND;TZID=America/New_York:20250707T190000
X-ALT-DESC;FMTTYPE=TEXT/HTML:Additional Rally at Ryan MacKenzie's Office Mo
 nday\, July 7th from 5:00-7:00 PM\, 1125 S. Cedar Crest Blvd.\, Allentown 
 PARK ON SIDES STREETS. Do NOT park in the building parking lot. Plan: Show
  up at Mackenzie's congressional district office Bring signs\, wear union
  or issue gear\, take photos\, tag on social Use hashtags: #PAFightsBack #
 ProtectPACare #GOPScrewedPA Mobilize&amp;hellip\;
CATEGORIES:LCDC Event
URL;VALUE=URI:https://upperlehigh.com/mc-events/mackenzie-rally/
METHOD:PUBLISH
END:VEVENT
END:VCALENDAR