BEGIN:VCALENDAR
VERSION:2.0
PRODID:spatie/icalendar-generator
DESCRIPTION:Events from Upper Lehigh Democratic Club
X-WR-CALDESC:Events from Upper Lehigh Democratic Club
REFRESH-INTERVAL;VALUE=DURATION:PT1440M
X-PUBLISHED-TTL:PT1440M
BEGIN:VTIMEZONE
TZID:America/New_York
BEGIN:DAYLIGHT
DTSTART:20250309T020000Z
TZOFFSETFROM:-0500
TZOFFSETTO:-0400
END:DAYLIGHT
BEGIN:STANDARD
DTSTART:20251102T020000Z
TZOFFSETFROM:-0400
TZOFFSETTO:-0500
END:STANDARD
BEGIN:DAYLIGHT
DTSTART:20260308T020000Z
TZOFFSETFROM:-0500
TZOFFSETTO:-0400
END:DAYLIGHT
END:VTIMEZONE
BEGIN:VTIMEZONE
TZID:UTC
BEGIN:STANDARD
DTSTART:20250729T103841Z
TZOFFSETFROM:+0000
TZOFFSETTO:+0000
END:STANDARD
END:VTIMEZONE
BEGIN:VEVENT
UID:449-379
DTSTAMP:20260425T103841Z
SUMMARY:Mail Ballots Sent to Voters
LOCATION:
ORGANIZER;CN=JSadmin:MAILTO:joanstronga2@gmail.com
DTSTART;TZID=America/New_York;VALUE=DATE:20251008
DTEND;TZID=America/New_York;VALUE=DATE:20251009
X-ALT-DESC;FMTTYPE=TEXT/HTML:Mail Ballots are scheduled to be mailed to Leh
 igh County Voters on October 8. If you requested a ballot for the November
  4 Election\, you should receive it between Oct. 9 and Oct. 13 TRACK YOUR 
 BALLOT Your Completed Ballot Must be Received by 8 pm November 4 One week 
 before the election\, return your&amp;hellip\;
CATEGORIES:Voting &amp; Elections
URL;VALUE=URI:https://upperlehigh.com/mc-events/mail-ballots-sent-to-voters
 /
METHOD:PUBLISH
END:VEVENT
END:VCALENDAR