BEGIN:VCALENDAR
VERSION:2.0
PRODID:spatie/icalendar-generator
DESCRIPTION:Events from Upper Lehigh Democratic Club
X-WR-CALDESC:Events from Upper Lehigh Democratic Club
REFRESH-INTERVAL;VALUE=DURATION:PT1440M
X-PUBLISHED-TTL:PT1440M
BEGIN:VTIMEZONE
TZID:America/New_York
BEGIN:DAYLIGHT
DTSTART:20260308T020000Z
TZOFFSETFROM:-0500
TZOFFSETTO:-0400
END:DAYLIGHT
BEGIN:STANDARD
DTSTART:20261101T020000Z
TZOFFSETFROM:-0400
TZOFFSETTO:-0500
END:STANDARD
BEGIN:DAYLIGHT
DTSTART:20270314T020000Z
TZOFFSETFROM:-0500
TZOFFSETTO:-0400
END:DAYLIGHT
END:VTIMEZONE
BEGIN:VTIMEZONE
TZID:UTC
BEGIN:STANDARD
DTSTART:20250729T035130Z
TZOFFSETFROM:+0000
TZOFFSETTO:+0000
END:STANDARD
END:VTIMEZONE
BEGIN:VEVENT
UID:461-391
DTSTAMP:20260425T035130Z
SUMMARY:ELECTION - Last Day to Return Mail Ballot
LOCATION:
ORGANIZER;CN=JSadmin:MAILTO:joanstronga2@gmail.com
DTSTART;TZID=America/New_York:20261103T070000
DTEND;TZID=America/New_York:20261103T200000
X-ALT-DESC;FMTTYPE=TEXT/HTML:Polls Open 7 AM to 8 PM If you are in line at 
 8 pm\, stay in line\, you may still vote! PA Voter Services Polling Place 
 Finder Last day for County Board of Elections to RECEIVE VOTED MAIL-IN and
  CIVILIAN ABSENTEE BALLOTS (must be received by 8:00 P.M.) Drop Box Hours 
 and Locations Mail-In&amp;hellip\;
CATEGORIES:Voting &amp; Elections
URL;VALUE=URI:https://upperlehigh.com/mc-events/election-last-day-to-return
 -mail-ballot-5/
METHOD:PUBLISH
END:VEVENT
END:VCALENDAR