BEGIN:VCALENDAR
VERSION:2.0
PRODID:spatie/icalendar-generator
DESCRIPTION:Events from Upper Lehigh Democratic Club
X-WR-CALDESC:Events from Upper Lehigh Democratic Club
REFRESH-INTERVAL;VALUE=DURATION:PT1440M
X-PUBLISHED-TTL:PT1440M
BEGIN:VTIMEZONE
TZID:America/New_York
BEGIN:STANDARD
DTSTART:20251102T020000Z
TZOFFSETFROM:-0400
TZOFFSETTO:-0500
END:STANDARD
BEGIN:DAYLIGHT
DTSTART:20260308T020000Z
TZOFFSETFROM:-0500
TZOFFSETTO:-0400
END:DAYLIGHT
BEGIN:STANDARD
DTSTART:20261101T020000Z
TZOFFSETFROM:-0400
TZOFFSETTO:-0500
END:STANDARD
END:VTIMEZONE
BEGIN:VTIMEZONE
TZID:UTC
BEGIN:STANDARD
DTSTART:20250728T194509Z
TZOFFSETFROM:+0000
TZOFFSETTO:+0000
END:STANDARD
END:VTIMEZONE
BEGIN:VEVENT
UID:522-433
DTSTAMP:20260424T194509Z
SUMMARY:ULDC Plant Sale Pick Up
LOCATION:
ORGANIZER;CN=JSadmin:MAILTO:joanstronga2@gmail.com
DTSTART;TZID=America/New_York:20260502T100000
DTEND;TZID=America/New_York:20260502T130000
X-ALT-DESC;FMTTYPE=TEXT/HTML:Pick up the plants you ordered from the Upper 
 Lehigh Democratic Club Plant Sale Saturday\, May 2\, 10:00 am to 1:00 pm 5
 458 Doris Drive (Upper Macungie Twp near Country Meadows) Note: Colors for
  some plants (Dahlias\, Zinnias\, Sunpatiens\, Million Bells &amp;amp\; N. Gui
 nea Impatiens) vary based on current nursery stock\; colors cannot be sele
 cted&amp;hellip\;
CATEGORIES:ULDC Event
URL;VALUE=URI:https://upperlehigh.com/mc-events/uldc-plant-sale-pick-up-2/
METHOD:PUBLISH
END:VEVENT
END:VCALENDAR