BEGIN:VCALENDAR
VERSION:2.0
PRODID:spatie/icalendar-generator
DESCRIPTION:Events from Upper Lehigh Democratic Club
X-WR-CALDESC:Events from Upper Lehigh Democratic Club
REFRESH-INTERVAL;VALUE=DURATION:PT1440M
X-PUBLISHED-TTL:PT1440M
BEGIN:VTIMEZONE
TZID:America/New_York
BEGIN:STANDARD
DTSTART:20251102T020000Z
TZOFFSETFROM:-0400
TZOFFSETTO:-0500
END:STANDARD
BEGIN:DAYLIGHT
DTSTART:20260308T020000Z
TZOFFSETFROM:-0500
TZOFFSETTO:-0400
END:DAYLIGHT
BEGIN:STANDARD
DTSTART:20261101T020000Z
TZOFFSETFROM:-0400
TZOFFSETTO:-0500
END:STANDARD
END:VTIMEZONE
BEGIN:VTIMEZONE
TZID:UTC
BEGIN:STANDARD
DTSTART:20250729T020805Z
TZOFFSETFROM:+0000
TZOFFSETTO:+0000
END:STANDARD
END:VTIMEZONE
BEGIN:VEVENT
UID:530-437
DTSTAMP:20260425T020805Z
SUMMARY:ULDC Booth at Schnecksville Fair
LOCATION:
ORGANIZER;CN=JSadmin:MAILTO:joanstronga2@gmail.com
DTSTART;TZID=America/New_York;VALUE=DATE:20260616
DTEND;TZID=America/New_York;VALUE=DATE:20260621
X-ALT-DESC;FMTTYPE=TEXT/HTML:Save the Dates! ULDC will have a booth at the 
 Schnecksville Fair Our booth will have activities that are fun and informa
 tive. Candidate participation welcome. Connect with our community and let 
 folks know Democrats are here! Please volunteer to help make this event a 
 success! June 16 -20 Hours vary by day.  Shifts Available Additional&amp;hell
 ip\;
CATEGORIES:ULDC Event
URL;VALUE=URI:https://upperlehigh.com/mc-events/uldc-booth-at-schnecksville
 -fair-5/
METHOD:PUBLISH
END:VEVENT
END:VCALENDAR